Workbook

Sheet Synthèse des frais refacturés
B2: Programme CaRE - Domaine 2 Appel à Financement n°2 Fonction "Stratégie de continuité et de reprise d’activité"
B9: ANNEXE DETAILLEE CONCERNANT LA REFACTURATION INTERNE DES COUTS RH
B10: Cet outil constitue une annexe pour l'ensemble des établissements concernés par une refacturation des coûts RH par une structure de siège, telle qu'un GIE, une structure support ou toute autre entité juridique appartenant au même groupe. Dès lors qu'une dépense de personnel n'est pas facturée au nom de l'établissement candidat et/ou que le personnel mobilisé n'est pas rattaché à son entité juridique, l'onglet "Détails" est à renseigner afin de préciser les modalités de refacturation intra-groupe. Cette annexe doit être signée par le même signataire que la trame financière, soit par signature électronique directement sur le fichier excel, soit par signature d'une version exportée au format PDF. Pour rappel, pour chaque facture renseignée, le montant indiqué colonne G "Montant total imputé CaRE D2" doit correspondre au montant des coûts engagés figurant en colonne K de la trame financière.
C12: Nom de l'établissement ou Référence dossier (N° eCaRE) :
C14: Synthèse des montants déclarés
C16: N° de Facture | D16: Montant TTC | E16: Montant total imputé CaRE D2 (€ TTC)
C17: =Détails!B13 -> 0 | D17: =Détails!C13 -> 0 | E17: =SUM(Détails!H13:H22) -> 0
C18: =Détails!B23 -> 0 | D18: =Détails!C23 -> 0 | E18: =SUM(Détails!H23:H32) -> 0
C19: =Détails!B33 -> 0 | D19: =Détails!C33 -> 0 | E19: =SUM(Détails!H33:H42) -> 0
C20: =Détails!B43 -> 0 | D20: =Détails!C43 -> 0 | E20: =SUM(Détails!H43:H52) -> 0
C21: =Détails!B53 -> 0 | D21: =Détails!C53 -> 0 | E21: =SUM(Détails!H53:H62) -> 0
C22: =Détails!B63 -> 0 | D22: =Détails!C63 -> 0 | E22: =SUM(Détails!H63:H72) -> 0
C23: =Détails!B73 -> 0 | D23: =Détails!C73 -> 0 | E23: =SUM(Détails!H73:H82) -> 0
C24: =Détails!B83 -> 0 | D24: =Détails!C83 -> 0 | E24: =SUM(Détails!H83:H92) -> 0
C25: =Détails!B93 -> 0 | D25: =Détails!C93 -> 0 | E25: =SUM(Détails!H93:H102) -> 0
C26: =Détails!B103 -> 0 | D26: =Détails!C103 -> 0 | E26: =SUM(Détails!H103:H112) -> 0
C28: TOTAL DES FRAIS ENGAGES | E28: =SUM(E17:E26) -> 0
C30: Le signataire atteste que les dépenses de personnel ont effectivement contribué à la réalisation du projet financé dans le cadre du programme CaRE D2.
C31: Il atteste également que l'ensemble des pièces justificatives afférentes aux dépenses imputées au projet est conservé par l'établissement.
C32: Ces documents pourront être produits à première demande dans le cadre d'un audit ou de toute opération de vérification réalisée par les autorités compétentes.
B34: Signature
B36: A : _______________ | D36: Nom et Prénom : ______________
B37: Le : ______________ | D37: Rôle : _______________________

Sheet Détails
B2: Programme CaRE - Domaine 2 Appel à Financement n°2 Fonction "Stratégie de continuité et de reprise d’activité"
B8: Consignes de remplissage
B9: Pour les dépenses de personnel, les informations suivantes doivent être renseignées: - le matricule/code ou nom du salarié (une ligne par salarié), - la raison sociale de l'employeur du salarié, - la période d'intervention, - le nombre d'heures consacrées au programme, - le montant imputable au programme.
B12: N° FACTURE | C12: MONTANT TTC | D12: Matricule | E12: Raison social EJ | F12: Période d'intervention | G12: Heures imputées | H12: Montant imputé CaRE D2 (€ TTC)
