Workbook

Sheet Page de garde
B5: Programme CaRE - Domaine 1 Appel à Financement n°1- Fonction « Annuaires techniques et exposition sur internet »
B13: Identification du document
B14: Date de création | D14: 45373
B15: Date de dernière mise à jour | D15: 45797
B16: Etat | D16: En cours / En validation / Validé
B17: Rédaction | D17: Direction programme CaRE
B18: Version | D18: V4.1
B21: Destinataires
B22: Nom / Prénom / Entité | E22: Nature de la diffusion
B23: Etablisssements de santé candidats à l'appel à financement | E23: Information/Application
B27: Historique du document
B28: Version | C28: Date | D28: Auteur | E28: Commentaires
B29: V1 | C29: 45373 | D29: Direction programme CaRE | E29: Version initiale
B30: V2 | C30: 45684 | D30: Direction programme CaRE | E30: Mise à jour de la trame afin de permettre de mieux tracer les coûts internes liés aux charges de personnel imputables sur les actions remboursées. Ces coûts RH internes sont tracés de manière globale (salarié par salarié) et ne sont plus ventilés par objectif.
B31: V3 | C31: 45702 | D31: Direction programme CaRE | E31: Introduction d'une procédure alternative pour la soumission des pièces justificatives financières dans le cas où l'établissement candidat ne souhaite pas envoyer la trame de l'état financier et le récapitulatif de paie directement au référent CaRE pour dépôt sur la plateforme eCaRE. Précision concernant les justificatifs à fournir pour des commandes antérieures à la publication de l'arrêté.
B32: V4 | C32: 45713 | D32: Direction programme CaRE | E32: Mise à jour des exemples de dépenses dans la catégorie "Autres coûts" (onglet Préambule).
B33: V4.1 | C33: 45797 | D33: Direction programme CaRE | E33: Mise à jour de certaines cellules (onglet "Déclaration - Frais engagés") afin de permettre la prise en compte automatique des valeurs au niveau de l'onglet Synthèse.

Sheet Préambule
B3: Programme CaRE - Domaine 1 Appel à Financement n°1- Fonction « Annuaires techniques et exposition sur internet »
P8: Dernière mise à jour | S8: 45797
B12: Préambule
B13: Cet outil constitue une trame pour la déclaration des coûts exposés par l'Etablissement de Santé ou le GHT pour l’atteinte des objectifs du Domaine 1. Seuls les coûts engagés déclarés donneront lieu à un financement, lequel ne pourra excéder le plafond applicable à l’ES ou le GHT, tel qu’il est défini dans ce document. Cet outil a été établi sur la base des principes de comptabilité analytique généralement acceptés et mis en œuvre pour le calcul des surcompensations éventuelles. Il est composé de 4 onglets : - Préambule ; - Synthèse des frais engagés ; - Déclaration - Frais engagés ; - Déclaration - Coûts externes.
B20: Il est rappelé que : - Le montant des financements réellement alloué aux établissements de santé en cas d'atteinte des objectifs sera calculé à partir de la présente déclaration des coûts engagés entre la date de publication de l'arrêté au Journal Officiel (22 mars 2024) et la date de déclaration d’atteinte des objectifs sur la plateforme eCaRE - L'ES doit être en capacité de mettre à disposition de l'ANS l'ensemble des pièces qui justifient les déclarations réalisées dans cet état financier. *** Pour les commandes dont la date est antérieure à la publication de l'arrêté, le candidat doit fournir soit un bon de commande, soit une facture indiquant que la date de démarrage des travaux est postérieure à la publication de l'arrêté. Les attestations ne seront pas acceptées comme preuve.***
B26: Onglet 'Synthèse des frais engagés' | E26: *** A SIGNER PAR TOUS LES ETABLISSEMENTS CANDIDATS ***
B27: Cet onglet synthétise les différents frais déclarés dans les onglets "Déclaration - Frais engagés". Il doit être signé par : - L'ordonnateur (signataire de la convention ANS/ES). Si celui-ci n'est pas le DG de l'établissement, une délégation de signature doit être jointe au dossier. - Le trésorier payeur (pour les ES publics) - Le DAF ou le CAC (pour les ES privés) Cet onglet (et uniquement celui-ci) devra être également transmis au format PDF lors du dépôt du dossier de déclaration d'atteinte des objectifs sur la plateforme eCaRE.
B34: Onglet 'Déclaration - Frais engagés' | E34: *** A COMPLETER PAR TOUS LES ETABLISSEMENTS CANDIDATS ***
B35: Il s'agit pour l'ES de lister les frais engagés pour l'atteinte des objectifs du Domaine 1. Ces frais peuvent être de natures différentes : *Coûts internes ; *Coûts externes ; * Autres coûts. L'ES déclare également les recettes perçues par le biais d'autres aides mobilisées pour atteindre les objectifs du D1 : ces dernières ne pouvant être financées une nouvelle fois (surfinancement ou surcompensation), elles sont déduites du total du montant déclaré. L'onglet est construit comme suit :
B42: Objectifs du Domaine 1
B43: Il s'agit de la liste des objectifs que les ES doivent atteindre pour toucher les financements dédiés. Ces objectifs sont précisés dans l’annexe 1 « Prérequis, objectifs et preuves d’atteinte des objectifs » de l’arrêté du 18 mars 2024 relatif au programme de financement Domaine 1 destiné à renforcer la sécurité numérique des ES - Fonction « Annuaires techniques et exposition sur internet »
B46: Coûts internes
B47: Les coûts internes désignent la consommation de ressources humaines mobilisée pour atteindre les objectifs du Domaine 1. Le total des coûts internes sera alimenté automatiquement après le remplissage de l'onglet "Déclaration - Coûts internes".
B49: Coûts externes (prestations)
B50: Les coûts externes désignent les coûts des prestations externes engagées par l'ES pour atteindre les objectifs du Domaine 1 ; ils sont estimés en euros toute taxe comprise (TTC). Exemples de 'coûts externes' : ressource humaine externalisée, réalisation des audits d'exposition internet via une plateforme industrielle, accompagnement industriel pour la réalisation d'un exercice de crise, etc.
B53: Autres coûts (licences, montée de version …)
B54: Il s'agit de tous les autres coûts (en euros toute taxe comprise (TTC)) engagés par l'ES pour l'atteinte des objectifs du domaine 1. Exemples de postes de coûts : - Coûts d'investissement : achat de licences (perpétuelles), achat de matériels, coûts de migrations,…​ - Coûts récurrents : maintenance des logiciels, coût annuel des licences, …​
B58: Recettes perçues dans le cadre d'autres financements pour l'atteinte de l'objectif
B59: L'ES déclare ici tous les financements mobilisés pour atteindre les objectifs du D1 mais perçus dans le cadre d'un autre dispositif de financement. Exemples de financements autres : Financements de la région, d'autres programmes, …
B63: Onglet 'Déclaration - Coûts internes' | E63: *** A COMPLETER PAR TOUS LES ETABLISSEMENTS CANDIDATS ***
B64: Les coûts internes désignent la consommation de ressources humaines mobilisée pour atteindre les objectifs du Domaine 1. Ces coûts sont déclarés par salarié (matricule) et par temps passé (nombre d'heures) ; Ils correspondent à des coûts chargés. Les établissements candidats devront compléter ce tableau pour chaque salarié de l’ES participant à la construction des coûts internes.​ Ils devront également transmettre le récapitulatif de paye pour tous les salariés concernés pour chaque exercice impacté.​ ***Procédure alternative pour la soumission des pièces justificatives financières*** Si l'établissement candidat ne souhaite pas envoyer la trame de l'état financier et le récapitulatif de paie directement au référent CaRE pour dépôt sur la plateforme eCaRE, il est proposé que le RH ou le DAF de l'établissement compresse le dossier contenant ces pièces justificatives avec un mot de passe. - Le dossier compressé (zip) sera déposé dans Convergence sans être visible par le référent CaRE. - Le mot de passe sera envoyé directement à la DAF de l'ANS par mail à l'adresse suivante : care.servicefinances@esante.gouv.fr - Dans ce mail, l'établissement candidat doit également préciser le numéro NRU de sa candidature, numéro disponible au niveau du tableau de bord sur la plateforme eCaRE. À noter que l'adresse care.servicefinances@esante.gouv.fr doit être utilisée uniquement pour l'envoi du mot de passe dans le cadre de cette procédure alternative. Si vous avez des questions suite à une demande de complément par les vérificateurs ARS ou ANS, nous vous prions de bien vouloir poser votre question directement en réponse à la demande de complément sur la plateforme eCaRE (Convergence). À défaut, pour toute question relative au programme CaRE, nous vous invitons à vous adresser au support client CaRE de l'ANS dans l'espace dédié (https://esante.gouv.fr/contact?contact_theme=programme_care).

Sheet Synthèse des frais engagés
B2: Programme CaRE - Domaine 1 Appel à Financement n°1 Fonction « Annuaires techniques et exposition sur internet »
B7: *** A SIGNER PAR TOUS LES ETABLISSEMENTS CANDIDATS ***
D9: Dépenses | G9: Recettes
C11: Objectifs | D11: Coûts internes | E11: Coûts externes et autres coûts (€ TTC) | G11: Recettes (€ TTC)
C13: D1.O1.A | E13: =SUM('Déclaration - Frais engagés'!N13:N21) -> 0 | G13: =SUM('Déclaration - Frais engagés'!Q13:Q21) -> 0
C14: D1.O1.B | E14: =SUM('Déclaration - Frais engagés'!N22:N31) -> 0 | G14: =SUM('Déclaration - Frais engagés'!Q22:Q31) -> 0
C15: D1.O2.A | E15: =SUM('Déclaration - Frais engagés'!N32:N41) -> 0 | G15: =SUM('Déclaration - Frais engagés'!Q32:Q41) -> 0
C16: D1.O2.B | E16: =SUM('Déclaration - Frais engagés'!N42:N51) -> 0 | G16: =SUM('Déclaration - Frais engagés'!Q42:Q51) -> 0
C17: D1.O3 | E17: =SUM('Déclaration - Frais engagés'!N52:N61) -> 0 | G17: =SUM('Déclaration - Frais engagés'!Q52:Q61) -> 0
C18: D1.O4 | E18: =SUM('Déclaration - Frais engagés'!N62:N71) -> 0 | G18: =SUM('Déclaration - Frais engagés'!Q62:Q71) -> 0
C19: D1.O5 | E19: =SUM('Déclaration - Frais engagés'!N72:N81) -> 0 | G19: =SUM('Déclaration - Frais engagés'!Q72:Q81) -> 0
C20: D1.O6.A | E20: =SUM('Déclaration - Frais engagés'!N82:N91) -> 0 | G20: =SUM('Déclaration - Frais engagés'!Q82:Q91) -> 0
C21: D1.O6.B | E21: =SUM('Déclaration - Frais engagés'!N92:N101) -> 0 | G21: =SUM('Déclaration - Frais engagés'!Q92:Q101) -> 0
C22: Pilotage | E22: =SUM('Déclaration - Frais engagés'!N102:N111) -> 0 | G22: =SUM('Déclaration - Frais engagés'!Q102:Q111) -> 0
C24: Total | D24: ='Déclaration - Coûts internes'!F124 -> 0 | E24: =SUM(E13:E22) -> 0 | G24: =SUM(G13:G22) -> 0
C27: TOTAL DES FRAIS ENGAGES | E27: =SUM(D24+E24)-G24 -> 0
C30: Nom GHT ou Raison Sociale entité juridique (ES hors GHT) : | G30: _____________________________________________
C31: N° FINESS EJ (de l'ES support pour les GHT) : | G31: _____________________________________________
C32: Référence dossier (N° eCaRE) : | G32: _____________________________________________
C36: Signature Ordonnateur
I37: Signature :
C38: A : _______________ | E38: Nom et Prénom : ______________
C39: Le : ______________ | E39: Rôle : _______________________
C42: Signature Trésorier Payeur / agent comptable (ES public) ou DAF / expert comptable (ES privé)
I43: Signature :
C44: A : _______________ | E44: Nom et Prénom : ______________
C45: Le : ______________ | E45: Rôle : _______________________

Sheet Déclaration - Frais engagés
B2: Programme CaRE - Domaine 1 Appel à Financement n°1- Fonction « Annuaires techniques et exposition sur internet »
D7: ***A COMPLETER PAR TOUS LES ETABLISSEMENTS CANDIDATS***
D9: Dépenses engagées (internes et externes) par l'ES pour l'atteinte des objectifs du D1 | P9: Recettes perçues dans le cadre d'autres financements | T9: Total des coûts engagés (coûts internes et externes après déduction des recettes) (€ TTC)
B10: Objectifs du domaine 1 | D10: Coûts internes | E10: Coûts externes (prestations) et autres coûts (licences, montée de version …) | P10: Recettes perçues pour l'atteinte de l'objectif
B11: N° | C11: Intitulé | D11: Charges de personnel imputables sur le domaine | E11: Type de coûts | F11: Date commande | G11: N° de commande | H11: Date facture | I11: N° facture | J11: Tiers de la facture | K11: Intitulé de la prestation externalisée | L11: Montant total facture (€ TTC) | M11: Quotité dédiée à l'objectif (en %) | N11: Coûts engagés (€ TTC) | P11: Nature / provenance de la recette La recette peut être en lien avec une dépense interne ou externe | Q11: Montants perçus (€ TTC)
D12: Ne pas renseigner Les coûts internes ne sont pas ventilés par objectif. Le total des coûts internes sera récupéré automatiquement après la saisie des valeurs dans l'onglet "Déclaration - Coûts internes" | E12: A renseigner | F12: A renseigner | G12: A renseigner | H12: A renseigner | I12: A renseigner | J12: A renseigner | K12: A renseigner | L12: A renseigner | M12: A renseigner | N12: Ne pas renseigner | P12: A renseigner | Q12: A renseigner | T12: Ne pas renseigner
B13: D1.O1.A | C13: Réaliser régulièrement des audits de tous les AD | N13: =IF(L13<>0,L13*M13,"")
N14: =IF(L14<>0,L14*M14,"")
N15: =IF(L15<>0,L15*M15,"")
N16: =IF(L16<>0,L16*M16,"")
N17: =IF(L17<>0,L17*M17,"")
N18: =IF(L18<>0,L18*M18,"")
N19: =IF(L19<>0,L19*M19,"")
N20: =IF(L20<>0,L20*M20,"")
N21: =IF(L21<>0,L21*M21,"")
B22: D1.O1.B | C22: Atteindre un niveau de sécurisation minimum des AD | N22: =IF(L22<>0,L22*M22,"")
N23: =IF(L23<>0,L23*M23,"")
N24: =IF(L24<>0,L24*M24,"")
N25: =IF(L25<>0,L25*M25,"")
N26: =IF(L26<>0,L26*M26,"")
N27: =IF(L27<>0,L27*M27,"")
N28: =IF(L28<>0,L28*M28,"")
N29: =IF(L29<>0,L29*M29,"")
N30: =IF(L30<>0,L30*M30,"")
N31: =IF(L31<>0,L31*M31,"")
B32: D1.O2.A | C32: Réaliser régulièrement des audits de l’exposition internet | N32: =IF(L32<>0,L32*M32,"")
N33: =IF(L33<>0,L33*M33,"")
N34: =IF(L34<>0,L34*M34,"")
N35: =IF(L35<>0,L35*M35,"")
N36: =IF(L36<>0,L36*M36,"")
N37: =IF(L37<>0,L37*M37,"")
N38: =IF(L38<>0,L38*M38,"")
N39: =IF(L39<>0,L39*M39,"")
N40: =IF(L40<>0,L40*M40,"")
N41: =IF(L41<>0,L41*M41,"")
B42: D1.O2.B | C42: Atteindre un niveau de sécurisation minimum de son exposition sur internet | N42: =IF(L42<>0,L42*M42,"")
N43: =IF(L43<>0,L43*M43,"")
N44: =IF(L44<>0,L44*M44,"")
N45: =IF(L45<>0,L45*M45,"")
N46: =IF(L46<>0,L46*M46,"")
...

Sheet Déclaration - Coûts internes
B2: Programme CaRE - Domaine 1 Appel à Financement n°1- Fonction « Annuaires techniques et exposition sur internet »
B7: CHARGES DE PERSONNEL IMPUTABLES SUR LES ACTIONS REMBOURSEES
B9: *** A COMPLETER PAR TOUS LES ETABLISSEMENTS CANDIDATS *** Les coûts internes sont déclarés par salarié (matricule). Les tableaux ci-dessous vous permettent de déclarer les coûts pour 10 salariés. Veuillez remplir uniquement les cellules en jaune. Si vous avez besoin de déclarer les coûts pour plus de salariés, nous vous invitons à reproduire un tableau par salarié déclaré. Pour cela, vous pouvez copier-coller des tableaux supplémentaires à la suite de ceux déjà présents ci-desous, entre les lignes 122 et 123. ***Procédure alternative pour la soumission des pièces justificatives financières*** Si l'établissement candidat ne souhaite pas envoyer la trame de l'état financier et le récapitulatif de paie directement au référent CaRE pour dépôt sur la plateforme eCaRE, il est proposé que le RH ou le DAF de l'établissement compresse le dossier contenant ces pièces justificatives avec un mot de passe. - Le dossier compressé (zip) sera déposé dans Convergence sans être visible par le référent CaRE. - Le mot de passe sera envoyé directement à la DAF de l'ANS par mail à l'adresse suivante : care.servicefinances@esante.gouv.fr - Dans ce mail, l'établissement candidat doit également préciser le numéro NRU de sa candidature, numéro disponible au niveau du tableau de bord sur la plateforme eCaRE. À noter que l'adresse care.servicefinances@esante.gouv.fr doit être utilisée uniquement pour l'envoi du mot de passe dans le cadre de cette procédure alternative. Si vous avez des questions suite à une demande de complément par les vérificateurs ARS ou ANS, nous vous prions de bien vouloir poser votre question directement en réponse à la demande de complément sur la plateforme eCaRE. À défaut, pour toute question relative au programme CaRE, nous vous invitons à vous adresser au support client CaRE de l'ANS dans l'espace dédié (https://esante.gouv.fr/contact?contact_theme=programme_care).
D12: 2024 | E12: 2025 | F12: TOTAL (€) | H12: Cellule à renseigner
B13: [Matricule du salarié] | C13: SALAIRE BRUT* | F13: =SUM(D13:E13) -> 0
C14: CHARGES PATRONALES * | F14: =SUM(D14:E14) -> 0
C15: dont paiement cet (sal brut) | F15: =SUM(D15:E15) -> 0
C16: dont paiement cet (charges patronales) | D16: =IF(D13="",0,D15*D14/D13) -> 0 | E16: =IF(E13="",0,E15*E14/E13) -> 0 | F16: =SUM(D16:E16) -> 0
C17: SALAIRE BRUT (hors CET et hors prime) | D17: =+D13-D15 -> 0 | E17: =+E13-E15 -> 0 | F17: =SUM(D17:E17) -> 0
C18: CHARGES PATRONALES (hors CET et hors prime) | D18: =+D14-D16 -> 0 | E18: =+E14-E16 -> 0 | F18: =SUM(D18:E18) -> 0
C19: S/TOTAL SALAIRES BRUTS + CHARGES PATRONALES | D19: =D18+D17 -> 0 | E19: =E18+E17 -> 0 | F19: =SUM(D19:E19) -> 0
C20: NOMBRE D'HEURES PRODUCTIVES ANNUELLES
C21: TAUX HORAIRE | D21: =IF(D20="",0,D19/D20) -> 0 | E21: =IF(E20="",0,E19/E20) -> 0
C22: NOMBRE D'HEURES EFFECTIVES CONSACREES AU DOMAINE | F22: =SUM(D22:E22) -> 0
C23: CHARGES DE PERSONNEL IMPUTABLE SUR LE DOMAINE | D23: =+D22*D21 -> 0 | E23: =+E22*E21 -> 0 | F23: =SUM(D23:E23) -> 0
B24: [Matricule du salarié] | C24: SALAIRE BRUT* | F24: =SUM(D24:E24) -> 0
C25: CHARGES PATRONALES * | F25: =SUM(D25:E25) -> 0
C26: dont paiement cet (sal brut) | F26: =SUM(D26:E26) -> 0
C27: dont paiement cet (charges patronales) | D27: =IF(D24="",0,D26*D25/D24) -> 0 | E27: =IF(E24="",0,E26*E25/E24) -> 0 | F27: =SUM(D27:E27) -> 0
C28: SALAIRE BRUT (hors CET et hors prime) | D28: =+D24-D26 -> 0 | E28: =+E24-E26 -> 0 | F28: =SUM(D28:E28) -> 0
C29: CHARGES PATRONALES (hors CET et hors prime) | D29: =+D25-D27 -> 0 | E29: =+E25-E27 -> 0 | F29: =SUM(D29:E29) -> 0
C30: S/TOTAL SALAIRES BRUTS + CHARGES PATRONALES | D30: =D29+D28 -> 0 | E30: =E29+E28 -> 0 | F30: =SUM(D30:E30) -> 0
C31: NOMBRE D'HEURES PRODUCTIVES ANNUELLES
C32: TAUX HORAIRE | D32: =IF(D31="",0,D30/D31) -> 0 | E32: =IF(E31="",0,E30/E31) -> 0
C33: NOMBRE D'HEURES EFFECTIVES CONSACREES AU DOMAINE | F33: =SUM(D33:E33) -> 0
C34: CHARGES DE PERSONNEL IMPUTABLE SUR LE DOMAINE | D34: =+D33*D32 -> 0 | E34: =+E33*E32 -> 0 | F34: =SUM(D34:E34) -> 0
B35: [Matricule du salarié] | C35: SALAIRE BRUT* | F35: =SUM(D35:E35) -> 0
C36: CHARGES PATRONALES * | F36: =SUM(D36:E36) -> 0
C37: dont paiement cet (sal brut) | F37: =SUM(D37:E37) -> 0
C38: dont paiement cet (charges patronales) | D38: =IF(D35="",0,D37*D36/D35) -> 0 | E38: =IF(E35="",0,E37*E36/E35) -> 0 | F38: =SUM(D38:E38) -> 0
C39: SALAIRE BRUT (hors CET et hors prime) | D39: =+D35-D37 -> 0 | E39: =+E35-E37 -> 0 | F39: =SUM(D39:E39) -> 0
C40: CHARGES PATRONALES (hors CET et hors prime) | D40: =+D36-D38 -> 0 | E40: =+E36-E38 -> 0 | F40: =SUM(D40:E40) -> 0
C41: S/TOTAL SALAIRES BRUTS + CHARGES PATRONALES | D41: =D40+D39 -> 0 | E41: =E40+E39 -> 0 | F41: =SUM(D41:E41) -> 0
C42: NOMBRE D'HEURES PRODUCTIVES ANNUELLES
C43: TAUX HORAIRE | D43: =IF(D42="",0,D41/D42) -> 0 | E43: =IF(E42="",0,E41/E42) -> 0
C44: NOMBRE D'HEURES EFFECTIVES CONSACREES AU DOMAINE | F44: =SUM(D44:E44) -> 0
C45: CHARGES DE PERSONNEL IMPUTABLE SUR LE DOMAINE | D45: =+D44*D43 -> 0 | E45: =+E44*E43 -> 0 | F45: =SUM(D45:E45) -> 0
B46: [Matricule du salarié] | C46: SALAIRE BRUT* | F46: =SUM(D46:E46) -> 0
C47: CHARGES PATRONALES * | F47: =SUM(D47:E47) -> 0
C48: dont paiement cet (sal brut) | F48: =SUM(D48:E48) -> 0
...

Sheet Liste
A1: Type de coût
A2: Prestation externe
A3: Autre coût
